BEGIN:VCALENDAR
VERSION:2.0
PRODID:-//ChamberMaster//Event Calendar 2.0//EN
METHOD:PUBLISH
X-PUBLISHED-TTL:P3D
REFRESH-INTERVAL:P3D
CALSCALE:GREGORIAN
BEGIN:VEVENT
DTSTART:20260504T160000Z
DTEND:20260504T170000Z
X-MICROSOFT-CDO-ALLDAYEVENT:FALSE
SUMMARY:Willow Pet Hospital - Ribbon Cutting
DESCRIPTION:Join us for a Ribbon Cutting at Willow Pet Hospital!     \n\nGet ready to paws and celebrate as we welcome this incredible new veterinary partner to our community!    Willow Pet Hospital is dedicated to keeping your furry family members healthy\, happy\, and thriving with personalized\, compassionate care every step of the way.\n\n   Whether your pet needs a check-up\, vaccines\, or a little extra TLC\, their team is here to help tails keep wagging\, and whiskers stay purring! Come celebrate with us\, meet the team\, and enjoy a tail-waggin' good time!  \n\n  May 4th\n\n  12:00   1:00 PM\n\n  12005 Lemmond Farm Dr. Ste. 2\, Charlotte\, NC 28227\n\n   Don't miss this purr-fect opportunity to connect\, celebrate\, and support a wonderful new addition to our business community!
X-ALT-DESC;FMTTYPE=text/html:<div class="xdj266r x11i5rnm xat24cr x1mh8g0r x1vvkbs" style="box-sizing: border-box\; margin: 0px\; overflow-wrap: break-word\; font-family: system-ui\, -apple-system\, &quot\;system-ui&quot\;\, &quot\;.SFNSText-Regular&quot\;\, sans-serif\; color: rgb(5\, 5\, 5)\; font-size: 15px\;">\n<p data-end="90" data-start="0"><span style="font-family:tahoma\;">&#128062\;&#9986\;&#65039\;&#127872\; <u><span style="font-size:14px\;"><strong data-end="81" data-start="7">Join us for a Ribbon Cutting at <span data-state="closed"><span class="hover:entity-accent entity-underline inline cursor-pointer align-baseline"><span class="whitespace-normal">Willow Pet Hospital</span></span></span>!</strong> </span></u>&#127872\;&#9986\;&#65039\;&#128062\;</span></p>\n\n<p data-end="401" data-start="92"><span style="font-family:tahoma\;"><span style="font-size:12px\;">Get ready to <em data-end="111" data-start="105">paws</em> and celebrate as we welcome this incredible new veterinary partner to our community! &#128054\;&#128049\; Willow Pet Hospital is dedicated to keeping your furry family members healthy\, happy\, and thriving with personalized\, compassionate care every step of the way.</span></span></p>\n\n<p data-end="587" data-start="403"><span style="font-family:tahoma\;"><span style="font-size:12px\;">&#128021\;&#10024\; Whether your pet needs a check-up\, vaccines\, or a little extra TLC\, their team is here to help tails keep wagging\, and whiskers stay purring!&nbsp\;Come celebrate with us\, meet the team\, and enjoy a <em data-end="657" data-start="643">tail-waggin&rsquo\;</em> good time!&nbsp\;</span></span><span style="color: rgb(5\, 5\, 5)\; font-family: tahoma\; font-size: 12px\;">&#127881\;</span></p>\n\n<p data-end="772" data-start="672"><span style="font-family:tahoma\;"><span style="font-size:12px\;">&#128197\; <strong data-end="686" data-start="675">May 4th</strong><br data-end="689" data-start="686" />\n&#9200\; <strong data-end="710" data-start="691">12:00 &ndash\; 1:00 PM</strong><br data-end="713" data-start="710" />\n&#128205\; <strong data-end="770" data-start="716">12005 Lemmond Farm Dr. Ste. 2\, Charlotte\, NC 28227</strong></span></span></p>\n\n<p data-end="905" data-start="774"><span style="font-family:tahoma\;"><span style="font-size:12px\;">&#128062\;&#127882\; Don&rsquo\;t miss this <em data-end="806" data-start="795">purr-fect</em> opportunity to connect\, celebrate\, and support a wonderful new addition to our business community!</span></span></p>\n</div>\n
LOCATION:12005 Lemmond Farm Drive\, Ste. 2 Charlotte\, NC 28227
UID:e.3581.1821
SEQUENCE:3
DTSTAMP:20260421T190321Z
URL:https://business.minthillchamberofcommerce.com/events/details/willow-pet-hospital-ribbon-cutting-1821
END:VEVENT

END:VCALENDAR
