BEGIN:VCALENDAR
VERSION:2.0
PRODID:-//ChamberMaster//Event Calendar 2.0//EN
METHOD:PUBLISH
X-PUBLISHED-TTL:P3D
REFRESH-INTERVAL:P3D
CALSCALE:GREGORIAN
BEGIN:VEVENT
DTSTART:20211108T140000Z
DTEND:20211108T151500Z
X-MICROSOFT-CDO-ALLDAYEVENT:FALSE
SUMMARY:Website Training Class
DESCRIPTION:Learn more about how to best utilize our website for you and your business! Be sure to bring your lap top so you can get the most out of this class.
X-ALT-DESC;FMTTYPE=text/html:Learn more about how to best utilize our website for you and your business! Be sure to bring your lap top so you can get the most out of this class.&nbsp\;
LOCATION:
UID:e.3581.370
SEQUENCE:3
DTSTAMP:20260423T130233Z
URL:https://business.minthillchamberofcommerce.com/events/details/website-training-class-11-08-2021-370
END:VEVENT

END:VCALENDAR
