BEGIN:VCALENDAR
VERSION:2.0
PRODID:-//ChamberMaster//Event Calendar 2.0//EN
METHOD:PUBLISH
X-PUBLISHED-TTL:P3D
REFRESH-INTERVAL:P3D
CALSCALE:GREGORIAN
BEGIN:VEVENT
DTSTART:20260519T223000Z
DTEND:20260519T233000Z
X-MICROSOFT-CDO-ALLDAYEVENT:FALSE
SUMMARY:NYC Christmas and Japan Trip Info Meeting
DESCRIPTION:Join us at our MHCC offices to get all the details about the Mint Hill Chamber's upcoming trips to NYC in December 2026 and to Japan in April 2027!\n\n\n\nOur trip to NYC is hitting New York during the holidays\, the best time to visit the city. Spend four days and three nights exploring the city\, with shopping\, Broadway shows\, spectacular holiday lights and a ferry ride around Ellis Island.\n\n\n\nOur Japan trip is 11 days\, and they are packed full. From Toyko to Kyoto\, ancient shrines\, Mt Fuji and Hiroshima\, this will be an unforgettable trip.\n\nFor reservations and more information\, please contact Dan Brantmeyer at:\n\n  704-904-1440\n\n  dan.planyourvacay@gmail.com
X-ALT-DESC;FMTTYPE=text/html:<p data-end="1286" data-start="1236" style="color: rgb(0\, 0\, 0)\; font-size: medium\;">Join us at our MHCC offices to get all the details about the Mint Hill Chamber&#39\;s upcoming trips to NYC in December 2026 and to Japan in April 2027!<br />\n<br />\nOur trip to NYC is hitting New York during the holidays\, the best time to visit the city. Spend four days and three nights exploring the city\, with shopping\, Broadway shows\, spectacular holiday lights and a ferry ride around Ellis Island.<br />\n<br />\nOur Japan trip is 11 days\, and they are packed full. From Toyko to Kyoto\, ancient shrines\, Mt Fuji and Hiroshima\, this will be an unforgettable trip.</p>\n\n<p data-end="2128" data-start="2042" style="color: rgb(0\, 0\, 0)\; font-size: medium\;">For reservations and more information\, please contact Dan Brantmeyer at:<br data-end="2078" data-start="2075" />\n&#128222\; 704-904-1440<br data-end="2096" data-start="2093" />\n&#128231\; <a class="decorated-link cursor-pointer" data-end="2126" data-start="2099" rel="noopener">dan.planyourvacay@gmail.com</a></p>\n
LOCATION:MHCC Offices Town Community Center 11524 Bain School Road
UID:e.3581.1822
SEQUENCE:3
DTSTAMP:20260422T214117Z
URL:https://business.minthillchamberofcommerce.com/events/details/nyc-christmas-and-japan-trip-info-meeting-1822
END:VEVENT

END:VCALENDAR
