BEGIN:VCALENDAR
VERSION:2.0
PRODID:-//ChamberMaster//Event Calendar 2.0//EN
METHOD:PUBLISH
X-PUBLISHED-TTL:P3D
REFRESH-INTERVAL:P3D
CALSCALE:GREGORIAN
BEGIN:VEVENT
DTSTART:20220110T140000Z
DTEND:20220110T151500Z
X-MICROSOFT-CDO-ALLDAYEVENT:FALSE
SUMMARY:Website Training Class
DESCRIPTION:Learn more about how to best utilize our website for you and your business! Be sure to bring your lap top so you can get the most out of this class.
X-ALT-DESC;FMTTYPE=text/html:Learn more about how to best utilize our website for you and your business! Be sure to bring your lap top so you can get the most out of this class.&nbsp\;
LOCATION:
UID:e.3581.588
SEQUENCE:3
DTSTAMP:20260423T091931Z
URL:https://business.minthillchamberofcommerce.com/events/details/new-member-and-website-training-class-01-10-2022-588
END:VEVENT

END:VCALENDAR
