BEGIN:VCALENDAR
VERSION:2.0
PRODID:-//ChamberMaster//Event Calendar 2.0//EN
METHOD:PUBLISH
X-PUBLISHED-TTL:P3D
REFRESH-INTERVAL:P3D
CALSCALE:GREGORIAN
BEGIN:VEVENT
DTSTART:20221115T163000Z
DTEND:20221115T180000Z
X-MICROSOFT-CDO-ALLDAYEVENT:FALSE
SUMMARY:Monthly Member Luncheon November
DESCRIPTION:Date and Time\n\nTuesday November 15th\, 2022\n\n11:30 AM - 1:00 PM \n\n\n\n\n\nLunch: Old Sycamore Golf Plantation\n\nTurkey & Gravy\, Mashed Potatoes\, Southern Green Beans\, House Salad and Dinner rolls.\n\n\n\nSpeaker: Greg Bartholomy - GB Electrical Services\n\n\n\nIf you wish to bring a door prize for our drawings\, please bring that with you to the luncheon.  This is a great way to market your business or non-profit and get noticed as you will have the opportunity to come to the podium\, draw the winner and present your prize to them!\n\n\n\nLocation\n\nOlde Sycamore Golf Plantation\n\n7500 Olde Sycamore Dr Mint Hill NC 28227
X-ALT-DESC;FMTTYPE=text/html:<div class="col-sm-12 gz-event-date" style="box-sizing: border-box\; -webkit-font-smoothing: antialiased\; margin: 0px\; padding: 0px 15px\; border: 0px\; font-variant-numeric: inherit\; font-variant-east-asian: inherit\; font-stretch: inherit\; font-size: 16px\; line-height: inherit\; font-family: Arial\, Helvetica\, sans-serif\; vertical-align: baseline\; position: relative\; width: 735.078px\; min-height: 1px\; flex: 0 0 100%\; max-width: 100%\; outline: 0px\; color: rgb(68\, 68\, 68)\; background-color: rgb(252\, 252\, 252)\;">\n<h5 class="gz-subtitle" style="font-weight: normal\; line-height: 23px\; box-sizing: border-box\; -webkit-font-smoothing: antialiased\; margin: 0.5rem 0px\; padding: 0px\; border: 0px\; font-style: inherit\; font-variant: inherit\; font-stretch: inherit\; font-size: 20px\; font-family: Questrial\, Helvetica\, Arial\, sans-serif\; vertical-align: baseline\; letter-spacing: 0px\; color: rgb(25\, 56\, 147)\;"><span style="color: rgb(0\, 100\, 0)\;">Date and Time</span></h5>\n\n<div style="box-sizing: border-box\; -webkit-font-smoothing: antialiased\; margin: 0px 0px 1rem\; padding: 0px\; border: 0px\; font: inherit\; vertical-align: baseline\; outline: 0px\;"><span style="color: rgb(0\, 0\, 0)\;"><span content="2021-08-11T11:00:00Z" itemprop="startDate" style="box-sizing: border-box\; -webkit-font-smoothing: antialiased\; margin: 0px\; padding: 0px\; border: 0px\; font-style: inherit\; font-variant: inherit\; font-weight: inherit\; font-stretch: inherit\; line-height: inherit\; vertical-align: baseline\; outline: 0px\;">Tuesday November&nbsp\;15th\, 2022</span><br style="box-sizing: border-box\; -webkit-font-smoothing: antialiased\;" />\n<span class="gz-details-time" style="box-sizing: border-box\; -webkit-font-smoothing: antialiased\; margin: 0px\; padding: 0px\; border: 0px\; font-style: inherit\; font-variant: inherit\; font-weight: inherit\; font-stretch: inherit\; line-height: inherit\; vertical-align: baseline\;">11:30&nbsp\;AM - 1:00 PM&nbsp\;</span></span><br />\n<br />\n<br />\n<span style="color: rgb(0\, 0\, 0)\;"><span class="gz-details-time" style="box-sizing: border-box\; -webkit-font-smoothing: antialiased\; margin: 0px\; padding: 0px\; border: 0px\; font-style: inherit\; font-variant: inherit\; font-weight: inherit\; font-stretch: inherit\; line-height: inherit\; vertical-align: baseline\;">Lunch: Old Sycamore&nbsp\;</span></span>Golf Plantation</div>\n\n<div style="box-sizing: border-box\; -webkit-font-smoothing: antialiased\; margin: 0px 0px 1rem\; padding: 0px\; border: 0px\; font: inherit\; vertical-align: baseline\; outline: 0px\;"><span style="text-align: center\; white-space: pre-wrap\;">Turkey &amp\; Gravy\, Mashed Potatoes\, Southern Green Beans\, House Salad and Dinner rolls.</span></div>\n\n<div style="box-sizing: border-box\; -webkit-font-smoothing: antialiased\; margin: 0px 0px 1rem\; padding: 0px\; border: 0px\; font: inherit\; vertical-align: baseline\; outline: 0px\;"><br />\n<span style="font-size:14px\;"><span style="font-family:arial\;"><span style="color: rgb(0\, 0\, 0)\; white-space: pre-wrap\;">Speaker: Greg Bartholomy - GB Electrical Services</span><br />\n<br style="box-sizing: border-box\; -webkit-font-smoothing: antialiased\;" />\n<span style="color: rgb(0\, 0\, 0)\;"><span century="" style="box-sizing: border-box\; -webkit-font-smoothing: antialiased\; margin: 0px\; padding: 0px\; border: 0px\; font-style: inherit\; font-variant: inherit\; font-weight: inherit\; font-stretch: inherit\; line-height: inherit\;" vertical-align:="">If you wish to bring a door prize for our drawings\, please bring that with you to the luncheon.&nbsp\; This is a great way to market your business or non-profit and get noticed as you will have the opportunity to come to the podium\, draw the winner and present your prize to them!</span></span></span></span></div>\n</div>\n\n<div class="col-sm-12 gz-event-location" itemprop="location" itemscope="" itemtype="http://schema.org/Place" style="box-sizing: border-box\; -webkit-font-smoothing: antialiased\; margin: 0px\; padding: 0px 15px\; border: 0px\; font-variant-numeric: inherit\; font-variant-east-asian: inherit\; font-stretch: inherit\; font-size: 16px\; line-height: inherit\; font-family: Arial\, Helvetica\, sans-serif\; vertical-align: baseline\; position: relative\; width: 735.078px\; min-height: 1px\; flex: 0 0 100%\; max-width: 100%\; color: rgb(68\, 68\, 68)\; background-color: rgb(252\, 252\, 252)\;">\n<p class="gz-subtitle" style="font-weight: normal\; line-height: 23px\; box-sizing: border-box\; -webkit-font-smoothing: antialiased\; margin: 0.5rem 0px\; padding: 0px\; border: 0px\; font-style: inherit\; font-variant: inherit\; font-stretch: inherit\; font-size: 20px\; font-family: Questrial\, Helvetica\, Arial\, sans-serif\; vertical-align: baseline\; letter-spacing: 0px\; color: rgb(25\, 56\, 147)\;"><span style="font-family:arial\;"><span style="color: rgb(0\, 100\, 0)\;">Location</span><br />\n<span style="font-size:14px\;"><span style="box-sizing: border-box\; -webkit-font-smoothing: antialiased\; margin: 0px\; padding: 0px\; border: 0px\; font-style: inherit\; font-variant: inherit\; font-weight: inherit\; font-stretch: inherit\; line-height: inherit\; vertical-align: baseline\;"><span style="color: rgb(0\, 0\, 0)\;">Olde Sycamore Golf Plantation<br />\n7500 Olde Sycamore Dr Mint Hill NC&nbsp\;28227</span></span></span></span></p>\n</div>\n
LOCATION:
UID:e.3581.631
SEQUENCE:3
DTSTAMP:20260422T162356Z
URL:https://business.minthillchamberofcommerce.com/events/details/monthly-member-luncheon-november-631
END:VEVENT

END:VCALENDAR
