BEGIN:VCALENDAR
VERSION:2.0
PRODID:-//ChamberMaster//Event Calendar 2.0//EN
METHOD:PUBLISH
X-PUBLISHED-TTL:P3D
REFRESH-INTERVAL:P3D
CALSCALE:GREGORIAN
BEGIN:VEVENT
DTSTART:20260609T153000Z
DTEND:20260609T170000Z
X-MICROSOFT-CDO-ALLDAYEVENT:FALSE
SUMMARY:Monthly Member Luncheon- June 2026
DESCRIPTION:June Monthly Member Luncheon   \n\nJoin us for our June Monthly Member Luncheon on Tuesday\, June 9th\, from 11:00 AM 1:30 PM at Olde Sycamore Golf Plantation.\n\nEnjoy a satisfying Deli Sandwich & Salad Buffet\, featuring a variety of fresh options\, while connecting with fellow Chamber members and community leaders. This luncheon offers a relaxed\, professional setting to network\, share ideas\, and stay engaged with Mint Hill's business community.\n\n  Featured Speaker: Madison Workman\n\nMecklenburg County Office of Economic Development\n\nWe're excited to welcome Madison Workman from the Mecklenburg County Office of Economic Development as our June Monthly Member Luncheon speaker!\n\nThe Office of Economic Development plays a vital role in recruiting and retaining businesses\, supporting small business growth\, and strengthening our local economy through partnerships and community initiatives.\n\nMadison works closely with local businesses and entrepreneurs\, helping connect them to valuable resources\, funding opportunities\, and strategic support to grow and succeed in Mecklenburg County.\n\nJoin us as Madison shares insights on economic development\, small business resources\, and opportunities available right here in our community information every business owner won't want to miss!\n\n  Olde Sycamore Golf Plantation\n\n7500 Olde Sycamore Dr\n\nMint Hill\, NC 28227\n\nPricing:\n\n  $18   Member Lunch\n\n  $24   Non-Member Lunch\n\nOur Monthly Member Luncheon is a great midday opportunity to build relationships\, exchange insights\, and strengthen your connection to the Chamber.\n\nRefund Policy:\n\nPlease note that Monthly Member Luncheons are non-refundable and non-transferable to another month unless explicitly specified by the Board of Directors. Any changes or exceptions will be communicated through official Chamber channels. For questions regarding refunds or transfers\, please email paige@minthillchamberofcommerce.com
X-ALT-DESC;FMTTYPE=text/html:<p data-end="181" data-start="141" style="color: rgb(0\, 0\, 0)\; font-size: medium\;"><span style="font-size:14px\;"><span style="font-family:arial\;">&#127869\;&#65039\; <strong data-end="177" data-start="145">June Monthly Member Luncheon</strong> &#127869\;&#65039\;</span></span></p>\n\n<p data-end="317" data-start="183" style="color: rgb(0\, 0\, 0)\; font-size: medium\;"><span style="font-size:14px\;"><span style="font-family:arial\;">Join us for our <strong data-end="231" data-start="199">June Monthly Member Luncheon</strong> on <strong data-end="279" data-start="235">Tuesday\, June 9th\, from 11:00 AM&ndash\;1:30 PM</strong> at <strong data-end="316" data-start="283">Olde Sycamore Golf Plantation</strong>.</span></span></p>\n\n<p data-end="609" data-start="319" style="color: rgb(0\, 0\, 0)\; font-size: medium\;"><span style="font-size:14px\;"><span style="font-family:arial\;">Enjoy a satisfying <strong data-end="370" data-start="338">Deli Sandwich &amp\; Salad Buffet</strong>\, featuring a variety of fresh options\, while connecting with fellow Chamber members and community leaders. This luncheon offers a relaxed\, professional setting to network\, share ideas\, and stay engaged with Mint Hill&rsquo\;s business community.</span></span></p>\n\n<p data-end="174" data-start="78"><span style="font-size:14px\;"><span style="font-family:arial\;">&#127908\; <strong data-end="118" data-start="81">Featured Speaker: Madison Workman</strong><br data-end="121" data-start="118" />\n<strong data-end="174" data-start="121">Mecklenburg County Office of Economic Development</strong></span></span></p>\n\n<p data-end="316" data-start="176"><span style="font-size:14px\;"><span style="font-family:arial\;">We&rsquo\;re excited to welcome <strong data-end="220" data-start="201">Madison Workman</strong> from the <strong data-end="271" data-start="230">Mecklenburg County Office of Economic Development</strong> as our June Monthly Member Luncheon speaker!</span></span></p>\n\n<p data-end="573" data-start="318"><span style="font-size:14px\;"><span style="font-family:arial\;">The Office of Economic Development plays a vital role in <strong data-end="532" data-start="375">recruiting and retaining businesses\, supporting small business growth\, and strengthening our local economy through partnerships and community initiatives</strong>.</span></span></p>\n\n<p data-end="769" data-start="575"><span style="font-size:14px\;"><span style="font-family:arial\;">Madison works closely with local businesses and entrepreneurs\, helping connect them to valuable resources\, funding opportunities\, and strategic support to grow and succeed in Mecklenburg County.</span></span></p>\n\n<p data-end="969" data-start="771"><span style="font-size:14px\;"><span style="font-family:arial\;">Join us as Madison shares insights on <strong data-end="916" data-start="809">economic development\, small business resources\, and opportunities available right here in our community</strong>&mdash\;information every business owner won&rsquo\;t want to miss!</span></span></p>\n\n<p data-end="693" data-start="611" style="color: rgb(0\, 0\, 0)\; font-size: medium\;"><span style="font-size:14px\;"><span style="font-family:arial\;">&#128205\; <strong data-end="647" data-start="614">Olde Sycamore Golf Plantation</strong><br data-end="650" data-start="647" />\n7500 Olde Sycamore Dr<br data-end="674" data-start="671" />\nMint Hill\, NC 28227</span></span></p>\n\n<p data-end="767" data-start="695" style="color: rgb(0\, 0\, 0)\; font-size: medium\;"><span style="font-size:14px\;"><span style="font-family:arial\;"><strong data-end="707" data-start="695">Pricing:</strong><br data-end="710" data-start="707" />\n&bull\; <strong data-end="719" data-start="712">$18</strong> &ndash\; Member Lunch<br data-end="737" data-start="734" />\n&bull\; <strong data-end="746" data-start="739">$24</strong> &ndash\; Non-Member Lunch</span></span></p>\n\n<p data-end="916" data-start="769" style="color: rgb(0\, 0\, 0)\; font-size: medium\;"><span style="font-size:14px\;"><span style="font-family:arial\;">Our Monthly Member Luncheon is a great midday opportunity to build relationships\, exchange insights\, and strengthen your connection to the Chamber.</span></span></p>\n\n<p data-end="1312" data-start="918" style="color: rgb(0\, 0\, 0)\; font-size: medium\;"><span style="font-size:14px\;"><span style="font-family:arial\;"><strong data-end="936" data-start="918">Refund Policy:</strong><br data-end="939" data-start="936" />\nPlease note that Monthly Member Luncheons are <strong data-end="1024" data-start="985">non-refundable and non-transferable</strong> to another month unless explicitly specified by the Board of Directors. Any changes or exceptions will be communicated through official Chamber channels. For questions regarding refunds or transfers\, please email <strong data-end="1277" data-start="1238"><a class="decorated-link cursor-pointer" data-end="1275" data-start="1240" rel="noopener">paige@minthillchamberofcommerce.com</a></strong></span></span></p>\n
LOCATION:Olde Sycamore Golf Plantation 7500 Olde Sycamore Dr Mint Hill NC 28227
UID:e.3581.1784
SEQUENCE:3
DTSTAMP:20260422T122704Z
URL:https://business.minthillchamberofcommerce.com/events/details/monthly-member-luncheon-june-2026-1784
END:VEVENT

END:VCALENDAR
