BEGIN:VCALENDAR
VERSION:2.0
PRODID:-//ChamberMaster//Event Calendar 2.0//EN
METHOD:PUBLISH
X-PUBLISHED-TTL:P3D
REFRESH-INTERVAL:P3D
CALSCALE:GREGORIAN
BEGIN:VEVENT
DTSTART:20221213T163000Z
DTEND:20221213T180000Z
X-MICROSOFT-CDO-ALLDAYEVENT:FALSE
SUMMARY:Monthly Member Luncheon December
DESCRIPTION:Date and Time\n\nTuesday December 13th\, 2022\n\n11:30 AM - 1:00 PM \n\n\n\n\n\nLunch: Old Sycamore Golf Plantation\n\n\nSpeaker: Steve Frey Town Engineer & Director of Public Works\n\n \n\nIf you wish to bring a door prize for our drawings\, please bring that with you to the luncheon.  This is a great way to market your business or non-profit and get noticed as you will have the opportunity to come to the podium\, draw the winner and present your prize to them!\n\n\n\n\nLocation\n\nOlde Sycamore Golf Plantation\n\n7500 Olde Sycamore Dr Mint Hill NC 28227
X-ALT-DESC;FMTTYPE=text/html:<div class="col-sm-12 gz-event-date" style="box-sizing: border-box\; -webkit-font-smoothing: antialiased\; margin: 0px\; padding: 0px 15px\; border: 0px\; font-variant-numeric: inherit\; font-variant-east-asian: inherit\; font-stretch: inherit\; line-height: inherit\; vertical-align: baseline\; position: relative\; width: 735.078px\; min-height: 1px\; flex: 0 0 100%\; max-width: 100%\; outline: 0px\; color: rgb(68\, 68\, 68)\;">\n<h5 class="gz-subtitle" style="font-family: Questrial\, Helvetica\, Arial\, sans-serif\; font-size: 20px\; background-color: rgb(252\, 252\, 252)\; font-weight: normal\; line-height: 23px\; box-sizing: border-box\; -webkit-font-smoothing: antialiased\; margin: 0.5rem 0px\; padding: 0px\; border: 0px\; font-style: inherit\; font-variant: inherit\; font-stretch: inherit\; vertical-align: baseline\; letter-spacing: 0px\; color: rgb(25\, 56\, 147)\; text-align: center\;"><span style="color: rgb(0\, 100\, 0)\;">Date and Time</span></h5>\n\n<p style="font: inherit\; background-color: rgb(252\, 252\, 252)\; box-sizing: border-box\; -webkit-font-smoothing: antialiased\; margin: 0px 0px 1rem\; padding: 0px\; border: 0px\; vertical-align: baseline\; outline: 0px\; text-align: center\;"><span style="color: rgb(0\, 0\, 0)\;"><span content="2021-08-11T11:00:00Z" itemprop="startDate" style="box-sizing: border-box\; -webkit-font-smoothing: antialiased\; margin: 0px\; padding: 0px\; border: 0px\; font-style: inherit\; font-variant: inherit\; font-weight: inherit\; font-stretch: inherit\; font-size: inherit\; line-height: inherit\; vertical-align: baseline\; outline: 0px\;">Tuesday December 13th\, 2022</span><br style="box-sizing: border-box\; -webkit-font-smoothing: antialiased\;" />\n<span class="gz-details-time" style="box-sizing: border-box\; -webkit-font-smoothing: antialiased\; margin: 0px\; padding: 0px\; border: 0px\; font-style: inherit\; font-variant: inherit\; font-weight: inherit\; font-stretch: inherit\; font-size: inherit\; line-height: inherit\; vertical-align: baseline\;">11:30&nbsp\;AM - 1:00 PM&nbsp\;</span></span><br />\n<br />\n<br />\n<span style="color: rgb(0\, 0\, 0)\;"><span class="gz-details-time" style="box-sizing: border-box\; -webkit-font-smoothing: antialiased\; margin: 0px\; padding: 0px\; border: 0px\; font-style: inherit\; font-variant: inherit\; font-weight: inherit\; font-stretch: inherit\; font-size: inherit\; line-height: inherit\; vertical-align: baseline\;">Lunch: Old Sycamore&nbsp\;</span></span>Golf Plantation</p>\n\n<div style="font-style: inherit\; font-variant: inherit\; font-weight: inherit\; font-stretch: inherit\; line-height: inherit\; box-sizing: border-box\; -webkit-font-smoothing: antialiased\; margin: 0px 0px 1rem\; padding: 0px\; border: 0px\; vertical-align: baseline\; outline: 0px\;">\n<div style="text-align: center\;"><span style="font-size:14px\;"><span style="font-family:arial\;"><span style="font-style: inherit\; font-variant-ligatures: inherit\; font-variant-caps: inherit\; font-weight: inherit\; white-space: pre-wrap\; background-color: rgb(255\, 255\, 255)\;">Speaker: Steve Frey </span><span style="color: rgb(34\, 34\, 34)\; background-color: rgb(255\, 255\, 255)\;">Town Enginee</span><span style="color: rgb(34\, 34\, 34)\; text-align: center\; background-color: rgb(255\, 255\, 255)\;">r &amp\; Director of Public Works</span></span></span></div>\n\n<div style="text-align: center\;">&nbsp\;</div>\n\n<div style="text-align: center\;"><span style="font-size: 13.3333px\; font-style: inherit\; font-variant-ligatures: inherit\; font-variant-caps: inherit\; font-weight: inherit\; background-color: rgb(252\, 252\, 252)\; color: rgb(0\, 0\, 0)\; font-family: inherit\;">If you wish</span><span style="font-size: 13.3333px\; font-style: inherit\; font-variant-ligatures: inherit\; font-variant-caps: inherit\; font-weight: inherit\; background-color: rgb(252\, 252\, 252)\; color: rgb(0\, 0\, 0)\; font-family: inherit\;">&nbsp\;to bring a door prize for our drawings\, please bring that with you to the luncheon.&nbsp\; This is a great way to market your business or non-profit and get noticed as you will have the opportunity to come to the podium\, draw the winner and present your prize to them!</span></div>\n</div>\n</div>\n\n<div class="col-sm-12 gz-event-location" itemprop="location" itemscope="" itemtype="http://schema.org/Place" style="box-sizing: border-box\; -webkit-font-smoothing: antialiased\; margin: 0px\; padding: 0px 15px\; border: 0px\; font-variant-numeric: inherit\; font-variant-east-asian: inherit\; font-stretch: inherit\; font-size: 16px\; line-height: inherit\; font-family: Arial\, Helvetica\, sans-serif\; vertical-align: baseline\; position: relative\; width: 735.078px\; min-height: 1px\; flex: 0 0 100%\; max-width: 100%\; color: rgb(68\, 68\, 68)\; background-color: rgb(252\, 252\, 252)\;">\n<h5 class="gz-subtitle" style="font-weight: normal\; line-height: 23px\; box-sizing: border-box\; -webkit-font-smoothing: antialiased\; margin: 0.5rem 0px\; padding: 0px\; border: 0px\; font-style: inherit\; font-variant: inherit\; font-stretch: inherit\; font-size: 20px\; font-family: Questrial\, Helvetica\, Arial\, sans-serif\; vertical-align: baseline\; letter-spacing: 0px\; color: rgb(25\, 56\, 147)\; text-align: center\;"><span style="color: rgb(0\, 100\, 0)\;">Location</span><br />\n<span style="box-sizing: border-box\; -webkit-font-smoothing: antialiased\; margin: 0px\; padding: 0px\; border: 0px\; font-style: inherit\; font-variant: inherit\; font-weight: inherit\; font-stretch: inherit\; font-size: 13.3333px\; line-height: inherit\; vertical-align: baseline\;"><span style="color: rgb(0\, 0\, 0)\;">Olde Sycamore Golf Plantation<br />\n7500 Olde Sycamore Dr Mint Hill NC&nbsp\;28227</span></span></h5>\n</div>\n
LOCATION:
UID:e.3581.999
SEQUENCE:3
DTSTAMP:20260422T141459Z
URL:https://business.minthillchamberofcommerce.com/events/details/monthly-member-luncheon-december-12-13-2022-999
END:VEVENT

END:VCALENDAR
