BEGIN:VCALENDAR
VERSION:2.0
PRODID:-//ChamberMaster//Event Calendar 2.0//EN
METHOD:PUBLISH
X-PUBLISHED-TTL:P3D
REFRESH-INTERVAL:P3D
CALSCALE:GREGORIAN
BEGIN:VEVENT
DTSTART:20260605T120000Z
DTEND:20260605T130000Z
X-MICROSOFT-CDO-ALLDAYEVENT:FALSE
SUMMARY:Coffee Connections - June 2026
DESCRIPTION:Brewed for Connection at the Library!\n\n\n\n\n\n\n\nJoin us for our next Coffee Connections at the Mint Hill Library- where great ideas and even better conversations are always checked out!  \n\nCome sip\, socialize\, and book some time to connect with fellow Chamber members and community leaders. Whether you're looking to make new connections or write your next business chapter\, this is the place to be!\n\nNo shushing required- just good coffee and great company!   \n\nWe can't wait to see you there!   \n\nWhen: Friday\, June 05th\, 2026   8:00 9:00 AM\n\nWhere: Charlotte Mecklenburg Library- Mint Hill\n\n6840 Matthews-Mint Hill Rd\, Mint Hill\, NC 28227\n\nWho Should Attend:\n\nChamber members\, prospective members\, and local business owners/leaders.\n\n  2026 Guest Policy:\n\nGuests are welcome to attend up to two Chamber networking events perfect for experiencing the value of membership and meeting our thriving business community.
X-ALT-DESC;FMTTYPE=text/html:<h6 class="sr-only"><span style="font-size:14px\;">&#9749\;&#128218\; <strong data-end="45" data-start="4">Brewed for Connection at the Library!</strong></span></h6>\n\n<div class="text-base my-auto mx-auto pb-10 [--thread-content-margin:--spacing(4)] thread-sm:[--thread-content-margin:--spacing(6)] thread-lg:[--thread-content-margin:--spacing(16)] px-(--thread-content-margin)">\n<div class="[--thread-content-max-width:40rem] thread-lg:[--thread-content-max-width:48rem] mx-auto max-w-(--thread-content-max-width) flex-1 group/turn-messages focus-visible:outline-hidden relative flex w-full min-w-0 flex-col agent-turn" tabindex="-1">\n<div class="flex max-w-full flex-col grow">\n<div class="min-h-8 text-message relative flex w-full flex-col items-end gap-2 text-start break-words whitespace-normal [.text-message+&amp\;]:mt-1" data-message-author-role="assistant" data-message-id="a4c66b33-7b88-42eb-9c28-695c8c85a077" data-message-model-slug="gpt-5-thinking" dir="auto">\n<div class="flex w-full flex-col gap-1 empty:hidden first:pt-[1px]">\n<div class="markdown prose dark:prose-invert w-full break-words light markdown-new-styling">\n<p data-end="196" data-start="47"><span style="font-size:14px\;">Join us for our next <strong data-end="90" data-start="68">Coffee Connections</strong> at the <strong data-end="119" data-start="98">Mint Hill Library-&nbsp\;</strong>where great ideas and even better conversations are always <em data-end="192" data-start="179">checked out</em>! &#128521\;</span></p>\n\n<p data-end="412" data-start="198"><span style="font-size:14px\;">Come sip\, socialize\, and <em data-end="229" data-start="223">book</em> some time to connect with fellow Chamber members and community leaders. Whether you&rsquo\;re looking to make new connections or <em data-end="386" data-start="352">write your next business chapter</em>\, this is the place to be!</span></p>\n\n<p data-end="475" data-start="414"><span style="font-size:14px\;">No shushing required- just good coffee and great company! &#9749\;&#10024\;</span></p>\n\n<p data-end="513" data-is-last-node="" data-is-only-node="" data-start="477"><span style="font-size:14px\;">We can&rsquo\;t wait to see you there! &#128214\;&#128075\;</span></p>\n\n<p data-end="463" data-start="297"><span style="font-size:14px\;"><strong data-end="306" data-start="297">When:</strong> <strong>Friday\, June 05th</strong><strong data-end="335" data-start="315">\, 2026</strong>&nbsp\;&middot\; <strong data-end="354" data-start="338">8:00&ndash\;9:00 AM</strong><br data-end="357" data-start="354" />\n<strong data-end="367" data-start="357">Where:</strong>&nbsp\;<b>Charlotte Mecklenburg Library- Mint Hill</b><br />\n<span style="color: rgb(31\, 31\, 31)\; font-family: Roboto\, Arial\, sans-serif\;">6840 Matthews-Mint Hill Rd\, Mint Hill\, NC 28227</span></span></p>\n\n<p data-end="734" data-start="637"><span style="font-size:14px\;"><strong data-end="659" data-start="637">Who Should Attend:</strong><br data-end="662" data-start="659" />\nChamber members\, prospective members\, and local business owners/leaders.</span></p>\n\n<p data-end="926" data-start="736"><span style="font-size:14px\;"><strong data-end="761" data-start="736">&#128273\; 2026&nbsp\;Guest Policy:</strong><br data-end="764" data-start="761" />\nGuests are welcome to attend <strong data-end="806" data-start="793">up to two</strong> Chamber networking events&mdash\;perfect for experiencing the value of membership and meeting our thriving business community.</span></p>\n</div>\n</div>\n</div>\n</div>\n</div>\n</div>\n
LOCATION:
UID:e.3581.1769
SEQUENCE:3
DTSTAMP:20260422T065509Z
URL:https://business.minthillchamberofcommerce.com/events/details/coffee-connections-june-2026-1769
END:VEVENT

END:VCALENDAR
