BEGIN:VCALENDAR
VERSION:2.0
PRODID:-//ChamberMaster//Event Calendar 2.0//EN
METHOD:PUBLISH
X-PUBLISHED-TTL:P3D
REFRESH-INTERVAL:P3D
CALSCALE:GREGORIAN
BEGIN:VEVENT
DTSTART:20231116T220000Z
DTEND:20231117T010000Z
X-MICROSOFT-CDO-ALLDAYEVENT:FALSE
SUMMARY:Annual Member Meeting + Gala 2023
DESCRIPTION:2023 Annual Member Meeting + Gala \n\n\n\nThursday\, November 16th\, 2023 \n\n\n\n5pm-8pm\n\n\n\nWhere:\n\nPine Lake Country Club\n\n5504 Lebanon Road\n\nMint Hill\, NC 2822\n\n\n\n** Two attendees per organization are free to attend. Additional attendees per organizations are $25 per attendee. ** \n\n\n\n** Cash Bar **
X-ALT-DESC;FMTTYPE=text/html:<p style="text-align: center\;"><strong>2023 Annual Member Meeting + Gala&nbsp\;</strong><br />\n<br />\nThursday\, November 16th\, 2023&nbsp\;<br />\n<br />\n5pm-8pm<br />\n<br />\n<strong>Where:</strong><br />\nPine Lake Country Club<br />\n5504 Lebanon Road<br />\nMint Hill\, NC 2822<br />\n<br />\n** Two attendees per organization are free to attend. Additional attendees per organizations are $25 per attendee. **&nbsp\;<br />\n<br />\n** Cash Bar **&nbsp\;</p>\n
LOCATION:
UID:e.3581.1285
SEQUENCE:3
DTSTAMP:20260422T085715Z
URL:https://business.minthillchamberofcommerce.com/events/details/annual-member-meeting-gala-2023-1285
END:VEVENT

END:VCALENDAR
