BEGIN:VCALENDAR
VERSION:2.0
PRODID:-//ChamberMaster//Event Calendar 2.0//EN
METHOD:PUBLISH
X-PUBLISHED-TTL:P3D
REFRESH-INTERVAL:P3D
CALSCALE:GREGORIAN
BEGIN:VEVENT
DTSTART:20251023T133000Z
DTEND:20251023T190000Z
X-MICROSOFT-CDO-ALLDAYEVENT:FALSE
SUMMARY:Accelerate: A Community Partnership Annual Conference
DESCRIPTION:Get Ready to ACCELERATE!  \n\nJoin us for the Inaugural ACCELERATE Conference & Expo\, a two-day solutions-driven event designed to inspire\, connect\, and equip you with actionable strategies that drive both business and community growth.\n\nStrategy & Growth\n\nThursday\, October 23\, 2025 | 9:00 AM   3:45 PM\n\nDay 1 features a full lineup of workshops\, breakout sessions\, and panels led by dynamic speakers covering leadership\, innovation\, operations\, and small business success. Walk away with practical tools\, resources\, and playbooks you can apply to your business immediately.\n\nWhy Attend?\n\n\n	\n	Gain strategies to accelerate your business growth\n	\n	\n	Learn from top experts and local leaders\n	\n	\n	Network with fellow entrepreneurs\, nonprofits\, and community partners\n	\n	\n	Position your business at the forefront of Mint Hill's future\n	\n\n\n  Location: Minti Cowork & Conference Center | Mint Hill\, NC\n\n   Registration: $125 per person \n\n \n\n  You do not have to be a Chamber member to attend!\n\n  Can't attend? Send a valuable team member instead.\n\n  Don't miss this opportunity to learn\, connect\, and ACCELERATE your success! Register today.
X-ALT-DESC;FMTTYPE=text/html:<p data-end="251" data-start="86">&#128640\;&nbsp\;<strong data-end="220" data-start="192">Get Ready to ACCELERATE!</strong>&nbsp\;&#128640\;</p>\n\n<p data-end="439" data-start="227" style="caret-color: rgb(0\, 0\, 0)\; color: rgb(0\, 0\, 0)\;">Join us for the&nbsp\;<strong data-end="285" data-start="243">Inaugural ACCELERATE Conference &amp\; Expo</strong>\, a two-day solutions-driven event designed to inspire\, connect\, and equip you with actionable strategies that drive both business and community growth.</p>\n\n<h3 data-end="472" data-start="441" style="caret-color: rgb(0\, 0\, 0)\; color: rgb(0\, 0\, 0)\;"><span style="font-size:16px\;"><strong>Strategy &amp\; Growth</strong></span></h3>\n\n<p data-end="521" data-start="473" style="caret-color: rgb(0\, 0\, 0)\; color: rgb(0\, 0\, 0)\;">Thursday\, October 23\, 2025 | 9:00&nbsp\;AM &ndash\; 3:45&nbsp\;PM</p>\n\n<p data-end="799" data-start="523" style="caret-color: rgb(0\, 0\, 0)\; color: rgb(0\, 0\, 0)\;">Day 1 features a full lineup of&nbsp\;<strong data-end="599" data-start="555">workshops\, breakout sessions\, and panels</strong>&nbsp\;led by dynamic speakers covering leadership\, innovation\, operations\, and small business success. Walk away with practical tools\, resources\, and playbooks you can apply to your business immediately.</p>\n\n<h3 data-end="1211" data-start="1194" style="caret-color: rgb(0\, 0\, 0)\; color: rgb(0\, 0\, 0)\;"><span style="font-size:16px\;"><strong>Why Attend?</strong></span></h3>\n\n<ul data-end="1451" data-start="1212" style="caret-color: rgb(0\, 0\, 0)\; color: rgb(0\, 0\, 0)\;">\n	<li data-end="1266" data-start="1212">\n	<p data-end="1266" data-start="1214">Gain strategies to accelerate your business growth</p>\n	</li>\n	<li data-end="1311" data-start="1267">\n	<p data-end="1311" data-start="1269">Learn from top experts and local leaders</p>\n	</li>\n	<li data-end="1385" data-start="1312">\n	<p data-end="1385" data-start="1314">Network with fellow entrepreneurs\, nonprofits\, and community partners</p>\n	</li>\n	<li data-end="1451" data-start="1386">\n	<p data-end="1451" data-start="1388">Position your business at the forefront of Mint Hill&rsquo\;s future</p>\n	</li>\n</ul>\n\n<p data-end="1772" data-start="1453" style="caret-color: rgb(0\, 0\, 0)\; color: rgb(0\, 0\, 0)\;">&#128205\;&nbsp\;<strong data-end="1469" data-start="1456">Location:</strong>&nbsp\;Minti Cowork &amp\; Conference Center | Mint Hill\, NC<br data-end="1521" data-start="1518" />\n&#127903\;&#65039\;&nbsp\;<strong data-end="1542" data-start="1525">Registration:</strong>&nbsp\;$125 per person&nbsp\;<br />\n<strong data-end="1651" data-start="1594">&#8203\;</strong><br data-end="1654" data-start="1651" />\n&#129309\;&nbsp\;<strong data-end="1710" data-start="1657">You do not have to be a Chamber member to attend!</strong><br data-end="1713" data-start="1710" />\n&#128101\;&nbsp\;<strong data-end="1770" data-start="1716">Can&rsquo\;t attend? Send a valuable team member instead.</strong></p>\n\n<p data-end="1874" data-start="1774" style="caret-color: rgb(0\, 0\, 0)\; color: rgb(0\, 0\, 0)\;">&#128073\;&nbsp\;<strong data-end="1872" data-start="1777">Don&rsquo\;t miss this opportunity to learn\, connect\, and ACCELERATE your success! Register today.</strong></p>\n
LOCATION:Minti Cowork & Conference 4301 Morris Park Dr. Mint Hill\, NC 28227
UID:e.3581.1727
SEQUENCE:3
DTSTAMP:20260420T044126Z
URL:https://business.minthillchamberofcommerce.com/events/details/accelerate-a-community-partnership-annual-conference-10-23-2025-1727
END:VEVENT

END:VCALENDAR
