BEGIN:VCALENDAR
VERSION:2.0
PRODID:-//ChamberMaster//Event Calendar 2.0//EN
METHOD:PUBLISH
X-PUBLISHED-TTL:P3D
REFRESH-INTERVAL:P3D
CALSCALE:GREGORIAN
BEGIN:VEVENT
DTSTART:20220430T150000Z
DTEND:20220430T170000Z
X-MICROSOFT-CDO-ALLDAYEVENT:FALSE
SUMMARY:2nd Annual Spring Tea Fundraiser
DESCRIPTION:Secure your table today!\n\n\n\nThe Mint Hill Chamber of Commerce Spring Tea and Brunch is back. Join us as we celebrate and enjoy time with our guest speaker\, Sheri Lynch.\n\n\n\nSheri Lynch is an award-winning broadcaster\, the author of two best-selling books\, and holds a Masters Degree in Social Work. Sheri is also an intermediate-level tap dancer\, a crazy cat/dog lady\, and the mom of 2 or 6 or 9 kids\, depending on who's home for dinner. A Philadelphia native who was raised in northwestern Wyoming\, Sheri is a bookworm\, a pop culture fanatic\, and an enthusiastic fan of aliens\, Bigfoot\, zombies\, abandoned places\, and goofy Americana. When she's not tormenting Bob Lacey\, you can usually find her dragging her husband to visit The World's Largest Spatula or something equally riveting.\n\n \nGather 8 friends and decorate a table seating 8 people. Tables are $320/8 people = $40 per person \n\n \n\nRaffle Tickets are available for purchase the day of event: $15 for 20 tickets / $25 for 30 tickets
X-ALT-DESC;FMTTYPE=text/html:Secure your table today!<br />\n<br />\nThe Mint Hill Chamber of Commerce Spring Tea and Brunch is back. Join us as we celebrate and enjoy time with our guest speaker\, Sheri Lynch.<br />\n<br />\nSheri Lynch is an award-winning broadcaster\, the author of two best-selling books\, and holds a Masters Degree in Social Work. Sheri is also an intermediate-level tap dancer\, a crazy cat/dog lady\, and the mom of 2 or 6 or 9 kids\, depending on who&rsquo\;s home for dinner. A Philadelphia native who was raised in northwestern Wyoming\, Sheri is a bookworm\, a pop culture fanatic\, and an enthusiastic fan of aliens\, Bigfoot\, zombies\, abandoned places\, and goofy Americana. When she&rsquo\;s not tormenting Bob Lacey\, you can usually find her dragging her husband to visit The World&rsquo\;s Largest Spatula or something equally riveting.<br />\n&nbsp\;\n<div>Gather 8 friends and decorate a table seating 8 people. Tables are $320/8 people = $40 per person<span style="white-space:pre"> </span></div>\n\n<div>&nbsp\;</div>\n\n<div>Raffle Tickets are available for purchase the day of event: $15&nbsp\;for 20 tickets / $25&nbsp\;for 30 tickets</div>\n
LOCATION:
UID:e.3581.612
SEQUENCE:3
DTSTAMP:20260423T054716Z
URL:https://business.minthillchamberofcommerce.com/events/details/2nd-annual-spring-tea-fundraiser-612
END:VEVENT

END:VCALENDAR
